BEGIN:VCALENDAR
VERSION:2.0
PRODID:-//Budapest XVI. Kerületi Táncsics Mihály Általános Iskola és Gimnázium - ECPv6.15.15//NONSGML v1.0//EN
CALSCALE:GREGORIAN
METHOD:PUBLISH
X-ORIGINAL-URL:https://tancsics16.hu
X-WR-CALDESC:Események Budapest XVI. Kerületi Táncsics Mihály Általános Iskola és Gimnázium
REFRESH-INTERVAL;VALUE=DURATION:PT1H
X-Robots-Tag:noindex
X-PUBLISHED-TTL:PT1H
BEGIN:VTIMEZONE
TZID:Europe/Budapest
BEGIN:DAYLIGHT
TZOFFSETFROM:+0100
TZOFFSETTO:+0200
TZNAME:CEST
DTSTART:20250330T010000
END:DAYLIGHT
BEGIN:STANDARD
TZOFFSETFROM:+0200
TZOFFSETTO:+0100
TZNAME:CET
DTSTART:20251026T010000
END:STANDARD
BEGIN:DAYLIGHT
TZOFFSETFROM:+0100
TZOFFSETTO:+0200
TZNAME:CEST
DTSTART:20260329T010000
END:DAYLIGHT
BEGIN:STANDARD
TZOFFSETFROM:+0200
TZOFFSETTO:+0100
TZNAME:CET
DTSTART:20261025T010000
END:STANDARD
BEGIN:DAYLIGHT
TZOFFSETFROM:+0100
TZOFFSETTO:+0200
TZNAME:CEST
DTSTART:20270328T010000
END:DAYLIGHT
BEGIN:STANDARD
TZOFFSETFROM:+0200
TZOFFSETTO:+0100
TZNAME:CET
DTSTART:20271031T010000
END:STANDARD
END:VTIMEZONE
BEGIN:VEVENT
DTSTART;VALUE=DATE:20260202
DTEND;VALUE=DATE:20260203
DTSTAMP:20260422T044823
CREATED:20251101T060557Z
LAST-MODIFIED:20251103T063958Z
UID:13546-1769990400-1770076799@tancsics16.hu
SUMMARY:Próbaérettségi a gimnáziumi tagozat végzős évfolyamán magyar nyelv és irodalom tantárgyból
DESCRIPTION:
URL:https://tancsics16.hu/esemeny/probaerettsegi-a-gimnaziumi-tagozat-vegzos-evfolyaman-magyar-nyelv-es-irodalom-tantargybol/
CATEGORIES:gimi
END:VEVENT
BEGIN:VEVENT
DTSTART;VALUE=DATE:20260202
DTEND;VALUE=DATE:20260204
DTSTAMP:20260422T044823
CREATED:20251101T060420Z
LAST-MODIFIED:20251103T064012Z
UID:13540-1769990400-1770163199@tancsics16.hu
SUMMARY:A felvételi dolgozatok javításával kapcsolatos észrevételek elbírálása
DESCRIPTION:
URL:https://tancsics16.hu/esemeny/a-felveteli-dolgozatok-javitasaval-kapcsolatos-eszrevetelek-elbiralasa/
CATEGORIES:felso
END:VEVENT
BEGIN:VEVENT
DTSTART;TZID=Europe/Budapest:20260203T140000
DTEND;TZID=Europe/Budapest:20260203T140000
DTSTAMP:20260422T044823
CREATED:20251101T060507Z
LAST-MODIFIED:20251103T064025Z
UID:13542-1770127200-1770127200@tancsics16.hu
SUMMARY:Központi középiskolai pótfelvételi vizsga
DESCRIPTION:
URL:https://tancsics16.hu/esemeny/kozponti-kozepiskolai-potfelveteli-vizsga/
CATEGORIES:felso
END:VEVENT
BEGIN:VEVENT
DTSTART;TZID=Europe/Budapest:20260209T170000
DTEND;TZID=Europe/Budapest:20260209T170000
DTSTAMP:20260422T044823
CREATED:20251101T060630Z
LAST-MODIFIED:20251103T064055Z
UID:13548-1770656400-1770656400@tancsics16.hu
SUMMARY:Az alsó tagozat és a gimnáziumi tagozat szülői értekezletei
DESCRIPTION:
URL:https://tancsics16.hu/esemeny/az-also-tagozat-es-a-gimnaziumi-tagozat-szuloi-ertekezletei/
CATEGORIES:also,gimi
END:VEVENT
BEGIN:VEVENT
DTSTART;TZID=Europe/Budapest:20260211T170000
DTEND;TZID=Europe/Budapest:20260211T170000
DTSTAMP:20260422T044823
CREATED:20251101T060655Z
LAST-MODIFIED:20251103T064110Z
UID:13550-1770829200-1770829200@tancsics16.hu
SUMMARY:A felső tagozat szülői értekezletei
DESCRIPTION:
URL:https://tancsics16.hu/esemeny/a-felso-tagozat-szuloi-ertekezletei/
CATEGORIES:felso
END:VEVENT
BEGIN:VEVENT
DTSTART;VALUE=DATE:20260213
DTEND;VALUE=DATE:20260214
DTSTAMP:20260422T044823
CREATED:20251101T060842Z
LAST-MODIFIED:20251103T064123Z
UID:13552-1770940800-1771027199@tancsics16.hu
SUMMARY:Középiskolákba való jelentkezési lapok leadásának legvégső dátuma
DESCRIPTION:
URL:https://tancsics16.hu/esemeny/kozepiskolakba-valo-jelentkezesi-lapok-leadasanak-legvegso-datuma/
CATEGORIES:felso
END:VEVENT
BEGIN:VEVENT
DTSTART;VALUE=DATE:20260215
DTEND;VALUE=DATE:20260216
DTSTAMP:20260422T044823
CREATED:20251101T060913Z
LAST-MODIFIED:20251103T064140Z
UID:13554-1771113600-1771199999@tancsics16.hu
SUMMARY:A felsőfokú intézményekbe történő jelentkezés határideje
DESCRIPTION:
URL:https://tancsics16.hu/esemeny/a-felsofoku-intezmenyekbe-torteno-jelentkezes-hatarideje/
CATEGORIES:gimi
END:VEVENT
BEGIN:VEVENT
DTSTART;VALUE=DATE:20260219
DTEND;VALUE=DATE:20260220
DTSTAMP:20260422T044823
CREATED:20251101T060950Z
LAST-MODIFIED:20251101T060953Z
UID:13556-1771459200-1771545599@tancsics16.hu
SUMMARY:A 11.b osztály idegen nyelv írásbeli kisérettségije
DESCRIPTION:
URL:https://tancsics16.hu/esemeny/a-11-b-osztaly-idegen-nyelv-irasbeli-kiserettsegije/
END:VEVENT
BEGIN:VEVENT
DTSTART;VALUE=DATE:20260220
DTEND;VALUE=DATE:20260221
DTSTAMP:20260422T044823
CREATED:20251101T060534Z
LAST-MODIFIED:20260126T074332Z
UID:13544-1771545600-1771631999@tancsics16.hu
SUMMARY:Felső tagozatosok farsangja
DESCRIPTION:
URL:https://tancsics16.hu/esemeny/felso-tagozatosok-farsangja/
CATEGORIES:felso
END:VEVENT
BEGIN:VEVENT
DTSTART;VALUE=DATE:20260223
DTEND;VALUE=DATE:20260228
DTSTAMP:20260422T044823
CREATED:20251101T061055Z
LAST-MODIFIED:20251101T061059Z
UID:13558-1771804800-1772236799@tancsics16.hu
SUMMARY:A kommunizmus áldozatainak emléknapja 02.25
DESCRIPTION:Megemlékezés a gimnáziumi évfolyamok történelemóráin
URL:https://tancsics16.hu/esemeny/a-kommunizmus-aldozatainak-emleknapja-02-25/
END:VEVENT
BEGIN:VEVENT
DTSTART;VALUE=DATE:20260224
DTEND;VALUE=DATE:20260226
DTSTAMP:20260422T044823
CREATED:20251101T061223Z
LAST-MODIFIED:20251101T061227Z
UID:13562-1771891200-1772063999@tancsics16.hu
SUMMARY:Kisérettségi vizsgák a 10. évfolyam számára  (idegen nyelv szóbeli)
DESCRIPTION:
URL:https://tancsics16.hu/esemeny/kiserettsegi-vizsgak-a-10-evfolyam-szamara-idegen-nyelv-szobeli/
END:VEVENT
BEGIN:VEVENT
DTSTART;VALUE=DATE:20260302
DTEND;VALUE=DATE:20260303
DTSTAMP:20260422T044823
CREATED:20251101T061343Z
LAST-MODIFIED:20251101T061346Z
UID:13566-1772409600-1772495999@tancsics16.hu
SUMMARY:Kisérettségi vizsgák a 11.a számára (idegen nyelv írásbeli)
DESCRIPTION:
URL:https://tancsics16.hu/esemeny/kiserettsegi-vizsgak-a-11-a-szamara-idegen-nyelv-irasbeli/
END:VEVENT
BEGIN:VEVENT
DTSTART;VALUE=DATE:20260302
DTEND;VALUE=DATE:20260307
DTSTAMP:20260422T044823
CREATED:20251101T061414Z
LAST-MODIFIED:20251101T061418Z
UID:13568-1772409600-1772841599@tancsics16.hu
SUMMARY:„Pénz7” pénzügyi és vállalkozói témahét a gimnáziumi tagozaton
DESCRIPTION:
URL:https://tancsics16.hu/esemeny/penz7-penzugyi-es-vallalkozoi-temahet-a-gimnaziumi-tagozaton/
END:VEVENT
BEGIN:VEVENT
DTSTART;VALUE=DATE:20260302
DTEND;VALUE=DATE:20260401
DTSTAMP:20260422T044823
CREATED:20251101T061301Z
LAST-MODIFIED:20251101T061305Z
UID:13564-1772409600-1775001599@tancsics16.hu
SUMMARY:Udvartakarítás
DESCRIPTION:
URL:https://tancsics16.hu/esemeny/udvartakaritas-2/
END:VEVENT
BEGIN:VEVENT
DTSTART;VALUE=DATE:20260303
DTEND;VALUE=DATE:20260304
DTSTAMP:20260422T044823
CREATED:20251101T061448Z
LAST-MODIFIED:20251101T061451Z
UID:13570-1772496000-1772582399@tancsics16.hu
SUMMARY:Angol szépkiejtési háziverseny 1-6. évfolyamon
DESCRIPTION:
URL:https://tancsics16.hu/esemeny/angol-szepkiejtesi-haziverseny-1-6-evfolyamon/
END:VEVENT
BEGIN:VEVENT
DTSTART;VALUE=DATE:20260304
DTEND;VALUE=DATE:20260305
DTSTAMP:20260422T044823
CREATED:20251101T061517Z
LAST-MODIFIED:20251101T061521Z
UID:13572-1772582400-1772668799@tancsics16.hu
SUMMARY:Próbaérettségi vizsgák a gimnáziumi tagozat végzős évfolyamán matematika tantárgyból
DESCRIPTION:
URL:https://tancsics16.hu/esemeny/probaerettsegi-vizsgak-a-gimnaziumi-tagozat-vegzos-evfolyaman-matematika-tantargybol/
END:VEVENT
BEGIN:VEVENT
DTSTART;VALUE=DATE:20260309
DTEND;VALUE=DATE:20260310
DTSTAMP:20260422T044823
CREATED:20251101T061550Z
LAST-MODIFIED:20251101T061550Z
UID:13574-1773014400-1773100799@tancsics16.hu
SUMMARY:Kerületi német tanulmányi verseny az 5-6. évfolyam számára
DESCRIPTION:
URL:https://tancsics16.hu/esemeny/keruleti-nemet-tanulmanyi-verseny-az-5-6-evfolyam-szamara/
END:VEVENT
BEGIN:VEVENT
DTSTART;VALUE=DATE:20260311
DTEND;VALUE=DATE:20260312
DTSTAMP:20260422T044823
CREATED:20251101T061143Z
LAST-MODIFIED:20260302T185009Z
UID:13560-1773187200-1773273599@tancsics16.hu
SUMMARY:Angol vers- és prózamondó háziverseny 1-6. évfolyamon
DESCRIPTION:
URL:https://tancsics16.hu/esemeny/angol-vers-es-prozamondo-haziverseny-1-6-evfolyamon/
END:VEVENT
BEGIN:VEVENT
DTSTART;TZID=Europe/Budapest:20260311T080000
DTEND;TZID=Europe/Budapest:20260311T084500
DTSTAMP:20260422T044823
CREATED:20260302T185607Z
LAST-MODIFIED:20260302T185635Z
UID:14135-1773216000-1773218700@tancsics16.hu
SUMMARY:Alsós nyílt nap - Környezetismeret (4.b) - Sőregi Dorottya
DESCRIPTION:  \nSzeretnénk felhívni a figyelmet\, hogy részvétel regisztrációhoz kötött\, lehetőség szerint családonként 1 fő regisztráljon. \nJavasoljuk továbbá\, hogy a nyílt órákra gyermek nélkül jöjjenek. Számukra a játszóházakban lesz lehetőség a tanító nénikkel találkozni.
URL:https://tancsics16.hu/esemeny/alsos-nyilt-nap-kornyezetismeret-4-b-soregi-dorottya/
CATEGORIES:also,nyitott
END:VEVENT
BEGIN:VEVENT
DTSTART;TZID=Europe/Budapest:20260311T080000
DTEND;TZID=Europe/Budapest:20260311T084500
DTSTAMP:20260422T044823
CREATED:20260302T185822Z
LAST-MODIFIED:20260302T185843Z
UID:14137-1773216000-1773218700@tancsics16.hu
SUMMARY:Alsós nyílt nap - Angol nyelv (4.a) - Hadházi Lőrincné Lázár Katalin
DESCRIPTION:  \nSzeretnénk felhívni a figyelmet\, hogy részvétel regisztrációhoz kötött\, lehetőség szerint családonként 1 fő regisztráljon. \nJavasoljuk továbbá\, hogy a nyílt órákra gyermek nélkül jöjjenek. Számukra a játszóházakban lesz lehetőség a tanító nénikkel találkozni.
URL:https://tancsics16.hu/esemeny/alsos-nyilt-nap-angol-nyelv-4-a-hadhazi-lorincne-lazar-katalin/
CATEGORIES:also,nyitott
END:VEVENT
BEGIN:VEVENT
DTSTART;TZID=Europe/Budapest:20260311T090000
DTEND;TZID=Europe/Budapest:20260311T094500
DTSTAMP:20260422T044823
CREATED:20260302T190002Z
LAST-MODIFIED:20260302T190030Z
UID:14139-1773219600-1773222300@tancsics16.hu
SUMMARY:Alsós nyílt nap - Matematika (4.a) - Terdikné Gál Szilvia
DESCRIPTION:  \nSzeretnénk felhívni a figyelmet\, hogy részvétel regisztrációhoz kötött\, lehetőség szerint családonként 1 fő regisztráljon. \nJavasoljuk továbbá\, hogy a nyílt órákra gyermek nélkül jöjjenek. Számukra a játszóházakban lesz lehetőség a tanító nénikkel találkozni.
URL:https://tancsics16.hu/esemeny/alsos-nyilt-nap-matematika-4-a-terdikne-gal-szilvia/
CATEGORIES:also,nyitott
END:VEVENT
BEGIN:VEVENT
DTSTART;TZID=Europe/Budapest:20260311T090000
DTEND;TZID=Europe/Budapest:20260311T094500
DTSTAMP:20260422T044823
CREATED:20260302T190200Z
LAST-MODIFIED:20260302T190225Z
UID:14141-1773219600-1773222300@tancsics16.hu
SUMMARY:Alsós nyílt nap - Angol nyelv (2.a) - Danyi Tímea
DESCRIPTION:  \nSzeretnénk felhívni a figyelmet\, hogy részvétel regisztrációhoz kötött\, lehetőség szerint családonként 1 fő regisztráljon. \nJavasoljuk továbbá\, hogy a nyílt órákra gyermek nélkül jöjjenek. Számukra a játszóházakban lesz lehetőség a tanító nénikkel találkozni.
URL:https://tancsics16.hu/esemeny/alsos-nyilt-nap-angol-nyelv-2-a-danyi-timea/
CATEGORIES:also,nyitott
END:VEVENT
BEGIN:VEVENT
DTSTART;TZID=Europe/Budapest:20260311T100000
DTEND;TZID=Europe/Budapest:20260311T104500
DTSTAMP:20260422T044823
CREATED:20260302T190334Z
LAST-MODIFIED:20260302T190402Z
UID:14143-1773223200-1773225900@tancsics16.hu
SUMMARY:Alsós nyílt nap - Ének (3.a) - Szathmáry Zita
DESCRIPTION:  \nSzeretnénk felhívni a figyelmet\, hogy részvétel regisztrációhoz kötött\, lehetőség szerint családonként 1 fő regisztráljon. \nJavasoljuk továbbá\, hogy a nyílt órákra gyermek nélkül jöjjenek. Számukra a játszóházakban lesz lehetőség a tanító nénikkel találkozni.
URL:https://tancsics16.hu/esemeny/alsos-nyilt-nap-enek-3-a-szathmary-zita/
CATEGORIES:also,nyitott
END:VEVENT
BEGIN:VEVENT
DTSTART;TZID=Europe/Budapest:20260311T100000
DTEND;TZID=Europe/Budapest:20260311T104500
DTSTAMP:20260422T044823
CREATED:20260302T190521Z
LAST-MODIFIED:20260302T190543Z
UID:14145-1773223200-1773225900@tancsics16.hu
SUMMARY:Alsós nyílt nap - Német nyelv (4.b) - Pintérné Farkas Anikó
DESCRIPTION:  \nSzeretnénk felhívni a figyelmet\, hogy részvétel regisztrációhoz kötött\, lehetőség szerint családonként 1 fő regisztráljon. \nJavasoljuk továbbá\, hogy a nyílt órákra gyermek nélkül jöjjenek. Számukra a játszóházakban lesz lehetőség a tanító nénikkel találkozni.
URL:https://tancsics16.hu/esemeny/alsos-nyilt-nap-nemet-nyelv-4-b-pinterne-farkas-aniko/
CATEGORIES:also,nyitott
END:VEVENT
BEGIN:VEVENT
DTSTART;VALUE=DATE:20260313
DTEND;VALUE=DATE:20260314
DTSTAMP:20260422T044823
CREATED:20251101T061617Z
LAST-MODIFIED:20251101T061620Z
UID:13576-1773360000-1773446399@tancsics16.hu
SUMMARY:Megemlékezés az 1848/49-es forradalom és szabadságharc évfordulója alkalmából
DESCRIPTION:
URL:https://tancsics16.hu/esemeny/megemlekezes-az-1848-49-es-forradalom-es-szabadsagharc-evforduloja-alkalmabol/
END:VEVENT
BEGIN:VEVENT
DTSTART;VALUE=DATE:20260316
DTEND;VALUE=DATE:20260317
DTSTAMP:20260422T044823
CREATED:20251101T061657Z
LAST-MODIFIED:20251101T061701Z
UID:13578-1773619200-1773705599@tancsics16.hu
SUMMARY:Kisérettségi vizsgák a 11. A és 11.B osztály számára  (magyar nyelv és irodalom szóbeli)
DESCRIPTION:
URL:https://tancsics16.hu/esemeny/kiserettsegi-vizsgak-a-11-a-es-11-b-osztaly-szamara-magyar-nyelv-es-irodalom-szobeli/
END:VEVENT
BEGIN:VEVENT
DTSTART;VALUE=DATE:20260325
DTEND;VALUE=DATE:20260326
DTSTAMP:20260422T044823
CREATED:20251101T061744Z
LAST-MODIFIED:20251101T061748Z
UID:13580-1774396800-1774483199@tancsics16.hu
SUMMARY:A tanulói adatlapok módosításának lehetősége az általános iskolában a felvételi eljárás során
DESCRIPTION:
URL:https://tancsics16.hu/esemeny/a-tanuloi-adatlapok-modositasanak-lehetosege-az-altalanos-iskolaban-a-felveteli-eljaras-soran/
END:VEVENT
BEGIN:VEVENT
DTSTART;TZID=Europe/Budapest:20260325T080000
DTEND;TZID=Europe/Budapest:20260325T140000
DTSTAMP:20260422T044823
CREATED:20260227T131124Z
LAST-MODIFIED:20260227T131124Z
UID:14123-1774425600-1774447200@tancsics16.hu
SUMMARY:Táncsics 70 - 1. nap - Kirándulások
DESCRIPTION:Alsó tagozat: Csömör és környéke \nFelső tagozat: Naplás-tó és környéke \nGimnázium: 9-11. évfolyam – Citadella és környéke\, 12. évfolyam – Fiumei úti sírkert \nAz érintett 28 osztálynak minimum 70 kilométert kell gyalogolnia összesen\, miközben Táncsics Mihállyal és a 70-es számmal kapcsolatos tematika szerint feladatokat oldanak meg.
URL:https://tancsics16.hu/esemeny/tancsics-70-1-nap-kirandulasok/
END:VEVENT
BEGIN:VEVENT
DTSTART;VALUE=DATE:20260326
DTEND;VALUE=DATE:20260327
DTSTAMP:20260422T044823
CREATED:20251101T061820Z
LAST-MODIFIED:20260227T130249Z
UID:13582-1774483200-1774569599@tancsics16.hu
SUMMARY:Táncsics 70 - 2. nap (DÖK-nap\, Táncsics-gála)
DESCRIPTION:09:00-13:00 – DÖK-nap \n17:00-19:00 – Jubileumi gálaműsor az Erzsébetligeti Színházban
URL:https://tancsics16.hu/esemeny/70-eves-a-tancsics/
END:VEVENT
BEGIN:VEVENT
DTSTART;VALUE=DATE:20260327
DTEND;VALUE=DATE:20260328
DTSTAMP:20260422T044823
CREATED:20251101T061847Z
LAST-MODIFIED:20260227T130838Z
UID:13584-1774569600-1774655999@tancsics16.hu
SUMMARY:Öregdiák-találkozó
DESCRIPTION:Kapunyitás: 16:30 \nMegnyitó: kb. 17:00 (időjárás függvényében vagy az „alakuló tér” vagy a tornaterem)
URL:https://tancsics16.hu/esemeny/oregdiaktalalkozo/
END:VEVENT
END:VCALENDAR