BEGIN:VCALENDAR
VERSION:2.0
PRODID:-//Budapest XVI. Kerületi Táncsics Mihály Általános Iskola és Gimnázium - ECPv6.15.15//NONSGML v1.0//EN
CALSCALE:GREGORIAN
METHOD:PUBLISH
X-ORIGINAL-URL:https://tancsics16.hu
X-WR-CALDESC:Események Budapest XVI. Kerületi Táncsics Mihály Általános Iskola és Gimnázium
REFRESH-INTERVAL;VALUE=DURATION:PT1H
X-Robots-Tag:noindex
X-PUBLISHED-TTL:PT1H
BEGIN:VTIMEZONE
TZID:Europe/Budapest
BEGIN:DAYLIGHT
TZOFFSETFROM:+0100
TZOFFSETTO:+0200
TZNAME:CEST
DTSTART:20240331T010000
END:DAYLIGHT
BEGIN:STANDARD
TZOFFSETFROM:+0200
TZOFFSETTO:+0100
TZNAME:CET
DTSTART:20241027T010000
END:STANDARD
BEGIN:DAYLIGHT
TZOFFSETFROM:+0100
TZOFFSETTO:+0200
TZNAME:CEST
DTSTART:20250330T010000
END:DAYLIGHT
BEGIN:STANDARD
TZOFFSETFROM:+0200
TZOFFSETTO:+0100
TZNAME:CET
DTSTART:20251026T010000
END:STANDARD
BEGIN:DAYLIGHT
TZOFFSETFROM:+0100
TZOFFSETTO:+0200
TZNAME:CEST
DTSTART:20260329T010000
END:DAYLIGHT
BEGIN:STANDARD
TZOFFSETFROM:+0200
TZOFFSETTO:+0100
TZNAME:CET
DTSTART:20261025T010000
END:STANDARD
BEGIN:DAYLIGHT
TZOFFSETFROM:+0100
TZOFFSETTO:+0200
TZNAME:CEST
DTSTART:20270328T010000
END:DAYLIGHT
BEGIN:STANDARD
TZOFFSETFROM:+0200
TZOFFSETTO:+0100
TZNAME:CET
DTSTART:20271031T010000
END:STANDARD
END:VTIMEZONE
BEGIN:VEVENT
DTSTART;VALUE=DATE:20251220
DTEND;VALUE=DATE:20260105
DTSTAMP:20260422T044641
CREATED:20251101T055300Z
LAST-MODIFIED:20251103T063729Z
UID:13518-1766188800-1767571199@tancsics16.hu
SUMMARY:Téli szünet
DESCRIPTION:
URL:https://tancsics16.hu/esemeny/teli-szunet/
CATEGORIES:also,felso,gimi
END:VEVENT
BEGIN:VEVENT
DTSTART;VALUE=DATE:20260105
DTEND;VALUE=DATE:20260106
DTSTAMP:20260422T044641
CREATED:20251101T055331Z
LAST-MODIFIED:20251103T063744Z
UID:13520-1767571200-1767657599@tancsics16.hu
SUMMARY:A téli szünet utáni első tanítási nap
DESCRIPTION:
URL:https://tancsics16.hu/esemeny/a-teli-szunet-utani-elso-tanitasi-nap/
CATEGORIES:also,felso,gimi
END:VEVENT
BEGIN:VEVENT
DTSTART;VALUE=DATE:20260107
DTEND;VALUE=DATE:20260110
DTSTAMP:20260422T044641
CREATED:20251101T055626Z
LAST-MODIFIED:20251103T063757Z
UID:13525-1767744000-1768003199@tancsics16.hu
SUMMARY:Emelt szintű próbaérettségi vizsgák
DESCRIPTION:
URL:https://tancsics16.hu/esemeny/emelt-szintu-probaerettsegi-vizsgak-2/
CATEGORIES:gimi
END:VEVENT
BEGIN:VEVENT
DTSTART;VALUE=DATE:20260112
DTEND;VALUE=DATE:20260124
DTSTAMP:20260422T044641
CREATED:20251101T055418Z
LAST-MODIFIED:20251103T063813Z
UID:13522-1768176000-1769212799@tancsics16.hu
SUMMARY:Egyéni tanrenddel rendelkező tanulók félévi osztályozó vizsgái
DESCRIPTION:
URL:https://tancsics16.hu/esemeny/emelt-szintu-probaerettsegi-vizsgak/
CATEGORIES:also,felso,gimi
END:VEVENT
BEGIN:VEVENT
DTSTART;TZID=Europe/Budapest:20260114T140000
DTEND;TZID=Europe/Budapest:20260114T140000
DTSTAMP:20260422T044641
CREATED:20251101T055750Z
LAST-MODIFIED:20251103T063829Z
UID:13527-1768399200-1768399200@tancsics16.hu
SUMMARY:Német szépkiejtési házi verseny 1-8. évfolyamon
DESCRIPTION:
URL:https://tancsics16.hu/esemeny/nemet-szepkiejtesi-hazi-verseny-1-8-evfolyamon/
CATEGORIES:also,felso
END:VEVENT
BEGIN:VEVENT
DTSTART;VALUE=DATE:20260122
DTEND;VALUE=DATE:20260123
DTSTAMP:20260422T044641
CREATED:20251101T055847Z
LAST-MODIFIED:20251103T063843Z
UID:13529-1769040000-1769126399@tancsics16.hu
SUMMARY:Magyar kultúra napja
DESCRIPTION:Rádiós megemlékezés \nKulturális programok a felső tagozaton (népdaléneklési verseny) \nKiállítás\, pályázati munkák készítése \nVersmondó verseny az 1-2. évfolyamon
URL:https://tancsics16.hu/esemeny/magyar-kultura-napja/
CATEGORIES:also,felso,gimi
END:VEVENT
BEGIN:VEVENT
DTSTART;VALUE=DATE:20260123
DTEND;VALUE=DATE:20260124
DTSTAMP:20260422T044641
CREATED:20251101T060044Z
LAST-MODIFIED:20251103T063855Z
UID:13532-1769126400-1769212799@tancsics16.hu
SUMMARY:Az első félév vége
DESCRIPTION:
URL:https://tancsics16.hu/esemeny/az-elso-felev-vege/
CATEGORIES:also,felso,gimi
END:VEVENT
BEGIN:VEVENT
DTSTART;VALUE=DATE:20260124
DTEND;VALUE=DATE:20260125
DTSTAMP:20260422T044641
CREATED:20251101T060229Z
LAST-MODIFIED:20251103T063909Z
UID:13534-1769212800-1769299199@tancsics16.hu
SUMMARY:Központi középiskolai felvételi vizsga
DESCRIPTION:
URL:https://tancsics16.hu/esemeny/kozponti-kozepiskolai-felveteli-vizsga/
CATEGORIES:felso
END:VEVENT
BEGIN:VEVENT
DTSTART;VALUE=DATE:20260129
DTEND;VALUE=DATE:20260130
DTSTAMP:20260422T044641
CREATED:20251101T060315Z
LAST-MODIFIED:20251103T063924Z
UID:13536-1769644800-1769731199@tancsics16.hu
SUMMARY:Kijavított központi felvételi dolgozatok megtekintése
DESCRIPTION:
URL:https://tancsics16.hu/esemeny/kijavitott-kozponti-felveteli-dolgozatok-megtekintese/
CATEGORIES:felso
END:VEVENT
BEGIN:VEVENT
DTSTART;VALUE=DATE:20260130
DTEND;VALUE=DATE:20260131
DTSTAMP:20260422T044641
CREATED:20251101T060352Z
LAST-MODIFIED:20251103T063945Z
UID:13538-1769731200-1769817599@tancsics16.hu
SUMMARY:A félévi tanulmányi eredményekről szóló értesítések kiosztásának határideje
DESCRIPTION:
URL:https://tancsics16.hu/esemeny/a-felevi-tanulmanyi-eredmenyekrol-szolo-ertesitesek-kiosztasanak-hatarideje/
CATEGORIES:also,felso,gimi
END:VEVENT
END:VCALENDAR