BEGIN:VCALENDAR
VERSION:2.0
PRODID:-//Budapest XVI. Kerületi Táncsics Mihály Általános Iskola és Gimnázium - ECPv6.15.15//NONSGML v1.0//EN
CALSCALE:GREGORIAN
METHOD:PUBLISH
X-ORIGINAL-URL:https://tancsics16.hu
X-WR-CALDESC:Események Budapest XVI. Kerületi Táncsics Mihály Általános Iskola és Gimnázium
REFRESH-INTERVAL;VALUE=DURATION:PT1H
X-Robots-Tag:noindex
X-PUBLISHED-TTL:PT1H
BEGIN:VTIMEZONE
TZID:Europe/Budapest
BEGIN:DAYLIGHT
TZOFFSETFROM:+0100
TZOFFSETTO:+0200
TZNAME:CEST
DTSTART:20250330T010000
END:DAYLIGHT
BEGIN:STANDARD
TZOFFSETFROM:+0200
TZOFFSETTO:+0100
TZNAME:CET
DTSTART:20251026T010000
END:STANDARD
BEGIN:DAYLIGHT
TZOFFSETFROM:+0100
TZOFFSETTO:+0200
TZNAME:CEST
DTSTART:20260329T010000
END:DAYLIGHT
BEGIN:STANDARD
TZOFFSETFROM:+0200
TZOFFSETTO:+0100
TZNAME:CET
DTSTART:20261025T010000
END:STANDARD
BEGIN:DAYLIGHT
TZOFFSETFROM:+0100
TZOFFSETTO:+0200
TZNAME:CEST
DTSTART:20270328T010000
END:DAYLIGHT
BEGIN:STANDARD
TZOFFSETFROM:+0200
TZOFFSETTO:+0100
TZNAME:CET
DTSTART:20271031T010000
END:STANDARD
END:VTIMEZONE
BEGIN:VEVENT
DTSTART;TZID=Europe/Budapest:20260401T080000
DTEND;TZID=Europe/Budapest:20260401T170000
DTSTAMP:20260422T003443
CREATED:20260227T131829Z
LAST-MODIFIED:20260227T131829Z
UID:14128-1775030400-1775062800@tancsics16.hu
SUMMARY:Tanítás nélküli munkanap
DESCRIPTION:
URL:https://tancsics16.hu/esemeny/tanitas-nelkuli-munkanap-2/
END:VEVENT
END:VCALENDAR