BEGIN:VCALENDAR
VERSION:2.0
PRODID:-//Budapest XVI. Kerületi Táncsics Mihály Általános Iskola és Gimnázium - ECPv6.15.15//NONSGML v1.0//EN
CALSCALE:GREGORIAN
METHOD:PUBLISH
X-WR-CALNAME:Budapest XVI. Kerületi Táncsics Mihály Általános Iskola és Gimnázium
X-ORIGINAL-URL:https://tancsics16.hu
X-WR-CALDESC:Események Budapest XVI. Kerületi Táncsics Mihály Általános Iskola és Gimnázium
REFRESH-INTERVAL;VALUE=DURATION:PT1H
X-Robots-Tag:noindex
X-PUBLISHED-TTL:PT1H
BEGIN:VTIMEZONE
TZID:Europe/Budapest
BEGIN:DAYLIGHT
TZOFFSETFROM:+0100
TZOFFSETTO:+0200
TZNAME:CEST
DTSTART:20240331T010000
END:DAYLIGHT
BEGIN:STANDARD
TZOFFSETFROM:+0200
TZOFFSETTO:+0100
TZNAME:CET
DTSTART:20241027T010000
END:STANDARD
BEGIN:DAYLIGHT
TZOFFSETFROM:+0100
TZOFFSETTO:+0200
TZNAME:CEST
DTSTART:20250330T010000
END:DAYLIGHT
BEGIN:STANDARD
TZOFFSETFROM:+0200
TZOFFSETTO:+0100
TZNAME:CET
DTSTART:20251026T010000
END:STANDARD
BEGIN:DAYLIGHT
TZOFFSETFROM:+0100
TZOFFSETTO:+0200
TZNAME:CEST
DTSTART:20260329T010000
END:DAYLIGHT
BEGIN:STANDARD
TZOFFSETFROM:+0200
TZOFFSETTO:+0100
TZNAME:CET
DTSTART:20261025T010000
END:STANDARD
END:VTIMEZONE
BEGIN:VEVENT
DTSTART;VALUE=DATE:20251104
DTEND;VALUE=DATE:20251201
DTSTAMP:20260422T100101
CREATED:20250901T151706Z
LAST-MODIFIED:20251103T063255Z
UID:13396-1762214400-1764547199@tancsics16.hu
SUMMARY:Udvartakarítás
DESCRIPTION:
URL:https://tancsics16.hu/esemeny/udvartakaritas/
CATEGORIES:also
END:VEVENT
BEGIN:VEVENT
DTSTART;TZID=Europe/Budapest:20251104T080000
DTEND;TZID=Europe/Budapest:20251104T080000
DTSTAMP:20260422T100101
CREATED:20250901T151636Z
LAST-MODIFIED:20251103T063345Z
UID:13394-1762243200-1762243200@tancsics16.hu
SUMMARY:Próbaérettségi a gimnáziumi tagozat végzős évfolyamán történelem tantárgyból 
DESCRIPTION:
URL:https://tancsics16.hu/esemeny/probaerettsegi-a-gimnaziumi-tagozat-vegzos-evfolyaman-tortenelem-tantargybol/
CATEGORIES:gimi
END:VEVENT
BEGIN:VEVENT
DTSTART;TZID=Europe/Budapest:20251104T080000
DTEND;TZID=Europe/Budapest:20251104T084500
DTSTAMP:20260422T100101
CREATED:20251102T065721Z
LAST-MODIFIED:20251103T045932Z
UID:13619-1762243200-1762245900@tancsics16.hu
SUMMARY:1. óra (8:00-8:45) - Matematika - Skara László
DESCRIPTION:
URL:https://tancsics16.hu/esemeny/nyitott-kapuk-1-ora-matematika-skara-laszlo/
CATEGORIES:nyitott
END:VEVENT
END:VCALENDAR