BEGIN:VCALENDAR
VERSION:2.0
PRODID:-//Budapest XVI. Kerületi Táncsics Mihály Általános Iskola és Gimnázium - ECPv6.15.15//NONSGML v1.0//EN
CALSCALE:GREGORIAN
METHOD:PUBLISH
X-WR-CALNAME:Budapest XVI. Kerületi Táncsics Mihály Általános Iskola és Gimnázium
X-ORIGINAL-URL:https://tancsics16.hu
X-WR-CALDESC:Események Budapest XVI. Kerületi Táncsics Mihály Általános Iskola és Gimnázium
REFRESH-INTERVAL;VALUE=DURATION:PT1H
X-Robots-Tag:noindex
X-PUBLISHED-TTL:PT1H
BEGIN:VTIMEZONE
TZID:Europe/Budapest
BEGIN:DAYLIGHT
TZOFFSETFROM:+0100
TZOFFSETTO:+0200
TZNAME:CEST
DTSTART:20240331T010000
END:DAYLIGHT
BEGIN:STANDARD
TZOFFSETFROM:+0200
TZOFFSETTO:+0100
TZNAME:CET
DTSTART:20241027T010000
END:STANDARD
BEGIN:DAYLIGHT
TZOFFSETFROM:+0100
TZOFFSETTO:+0200
TZNAME:CEST
DTSTART:20250330T010000
END:DAYLIGHT
BEGIN:STANDARD
TZOFFSETFROM:+0200
TZOFFSETTO:+0100
TZNAME:CET
DTSTART:20251026T010000
END:STANDARD
BEGIN:DAYLIGHT
TZOFFSETFROM:+0100
TZOFFSETTO:+0200
TZNAME:CEST
DTSTART:20260329T010000
END:DAYLIGHT
BEGIN:STANDARD
TZOFFSETFROM:+0200
TZOFFSETTO:+0100
TZNAME:CET
DTSTART:20261025T010000
END:STANDARD
END:VTIMEZONE
BEGIN:VEVENT
DTSTART;TZID=Europe/Budapest:20251006T080000
DTEND;TZID=Europe/Budapest:20251008T160000
DTSTAMP:20260423T185645
CREATED:20250901T150418Z
LAST-MODIFIED:20250901T150426Z
UID:13375-1759737600-1759939200@tancsics16.hu
SUMMARY:Papírgyűjtés
DESCRIPTION:
URL:https://tancsics16.hu/esemeny/papirgyujtes/
END:VEVENT
BEGIN:VEVENT
DTSTART;TZID=Europe/Budapest:20251006T080000
DTEND;TZID=Europe/Budapest:20251008T160000
DTSTAMP:20260423T185645
CREATED:20250901T150506Z
LAST-MODIFIED:20250901T150510Z
UID:13377-1759737600-1759939200@tancsics16.hu
SUMMARY:Állatvédelmi témanapok
DESCRIPTION:
URL:https://tancsics16.hu/esemeny/allatvedelmi-temanapok/
END:VEVENT
END:VCALENDAR